BEGIN:VCALENDAR
VERSION:2.0
PRODID:-//Revitalize Health and Wellness - ECPv6.15.20//NONSGML v1.0//EN
CALSCALE:GREGORIAN
METHOD:PUBLISH
X-WR-CALNAME:Revitalize Health and Wellness
X-ORIGINAL-URL:https://revitalizehealthandwellness.com
X-WR-CALDESC:Events for Revitalize Health and Wellness
REFRESH-INTERVAL;VALUE=DURATION:PT1H
X-Robots-Tag:noindex
X-PUBLISHED-TTL:PT1H
BEGIN:VTIMEZONE
TZID:America/Los_Angeles
BEGIN:DAYLIGHT
TZOFFSETFROM:-0800
TZOFFSETTO:-0700
TZNAME:PDT
DTSTART:20220313T100000
END:DAYLIGHT
BEGIN:STANDARD
TZOFFSETFROM:-0700
TZOFFSETTO:-0800
TZNAME:PST
DTSTART:20221106T090000
END:STANDARD
BEGIN:DAYLIGHT
TZOFFSETFROM:-0800
TZOFFSETTO:-0700
TZNAME:PDT
DTSTART:20230312T100000
END:DAYLIGHT
BEGIN:STANDARD
TZOFFSETFROM:-0700
TZOFFSETTO:-0800
TZNAME:PST
DTSTART:20231105T090000
END:STANDARD
BEGIN:DAYLIGHT
TZOFFSETFROM:-0800
TZOFFSETTO:-0700
TZNAME:PDT
DTSTART:20240310T100000
END:DAYLIGHT
BEGIN:STANDARD
TZOFFSETFROM:-0700
TZOFFSETTO:-0800
TZNAME:PST
DTSTART:20241103T090000
END:STANDARD
BEGIN:DAYLIGHT
TZOFFSETFROM:-0800
TZOFFSETTO:-0700
TZNAME:PDT
DTSTART:20250309T100000
END:DAYLIGHT
BEGIN:STANDARD
TZOFFSETFROM:-0700
TZOFFSETTO:-0800
TZNAME:PST
DTSTART:20251102T090000
END:STANDARD
BEGIN:DAYLIGHT
TZOFFSETFROM:-0800
TZOFFSETTO:-0700
TZNAME:PDT
DTSTART:20260308T100000
END:DAYLIGHT
BEGIN:STANDARD
TZOFFSETFROM:-0700
TZOFFSETTO:-0800
TZNAME:PST
DTSTART:20261101T090000
END:STANDARD
BEGIN:DAYLIGHT
TZOFFSETFROM:-0800
TZOFFSETTO:-0700
TZNAME:PDT
DTSTART:20270314T100000
END:DAYLIGHT
BEGIN:STANDARD
TZOFFSETFROM:-0700
TZOFFSETTO:-0800
TZNAME:PST
DTSTART:20271107T090000
END:STANDARD
BEGIN:DAYLIGHT
TZOFFSETFROM:-0800
TZOFFSETTO:-0700
TZNAME:PDT
DTSTART:20280312T100000
END:DAYLIGHT
BEGIN:STANDARD
TZOFFSETFROM:-0700
TZOFFSETTO:-0800
TZNAME:PST
DTSTART:20281105T090000
END:STANDARD
BEGIN:DAYLIGHT
TZOFFSETFROM:-0800
TZOFFSETTO:-0700
TZNAME:PDT
DTSTART:20290311T100000
END:DAYLIGHT
BEGIN:STANDARD
TZOFFSETFROM:-0700
TZOFFSETTO:-0800
TZNAME:PST
DTSTART:20291104T090000
END:STANDARD
END:VTIMEZONE
BEGIN:VEVENT
DTSTART;TZID=America/Los_Angeles:20230101T000000
DTEND;TZID=America/Los_Angeles:20280101T000000
DTSTAMP:20260423T052012
CREATED:20240104T233251Z
LAST-MODIFIED:20240104T233716Z
UID:3731-1672531200-1830297600@revitalizehealthandwellness.com
SUMMARY:Tualatin Valley Art Walk
DESCRIPTION:
URL:https://revitalizehealthandwellness.com/event/tualatin-valley-art-walk-2/
CATEGORIES:recurring
END:VEVENT
BEGIN:VEVENT
DTSTART;TZID=America/Los_Angeles:20230101T000000
DTEND;TZID=America/Los_Angeles:20280101T080000
DTSTAMP:20260423T052012
CREATED:20240104T233251Z
LAST-MODIFIED:20240104T233716Z
UID:3732-1672531200-1830326400@revitalizehealthandwellness.com
SUMMARY:Tenzen Cabins & Retreat
DESCRIPTION:
URL:https://revitalizehealthandwellness.com/event/tenzen-cabins-retreat-2/
CATEGORIES:recurring
END:VEVENT
BEGIN:VEVENT
DTSTART;TZID=America/Los_Angeles:20230101T000000
DTEND;TZID=America/Los_Angeles:20280101T080000
DTSTAMP:20260423T052012
CREATED:20240104T233251Z
LAST-MODIFIED:20240104T233717Z
UID:3733-1672531200-1830326400@revitalizehealthandwellness.com
SUMMARY:Next Level Pinball Museum - Hillsboro
DESCRIPTION:
URL:https://revitalizehealthandwellness.com/event/next-level-pinball-museum-hillsboro-2/
CATEGORIES:recurring
END:VEVENT
BEGIN:VEVENT
DTSTART;TZID=America/Los_Angeles:20230101T000000
DTEND;TZID=America/Los_Angeles:20280101T080000
DTSTAMP:20260423T052012
CREATED:20240104T233252Z
LAST-MODIFIED:20240104T233717Z
UID:3734-1672531200-1830326400@revitalizehealthandwellness.com
SUMMARY:Historic Butteville
DESCRIPTION:
URL:https://revitalizehealthandwellness.com/event/historic-butteville-2/
CATEGORIES:recurring
END:VEVENT
BEGIN:VEVENT
DTSTART;TZID=America/Los_Angeles:20230101T000000
DTEND;TZID=America/Los_Angeles:20280101T080000
DTSTAMP:20260423T052012
CREATED:20240104T233252Z
LAST-MODIFIED:20240104T233717Z
UID:3735-1672531200-1830326400@revitalizehealthandwellness.com
SUMMARY:Ukelele Jam Group
DESCRIPTION:
URL:https://revitalizehealthandwellness.com/event/ukelele-jam-group-2/
CATEGORIES:recurring
END:VEVENT
BEGIN:VEVENT
DTSTART;TZID=America/Los_Angeles:20230101T000000
DTEND;TZID=America/Los_Angeles:20280101T080000
DTSTAMP:20260423T052012
CREATED:20240104T233253Z
LAST-MODIFIED:20240104T233717Z
UID:3736-1672531200-1830326400@revitalizehealthandwellness.com
SUMMARY:Forest Park Guide: The Best Hikes
DESCRIPTION:
URL:https://revitalizehealthandwellness.com/event/forest-park-guide-the-best-hikes-2/
CATEGORIES:recurring
END:VEVENT
BEGIN:VEVENT
DTSTART;TZID=America/Los_Angeles:20230101T000000
DTEND;TZID=America/Los_Angeles:20280101T080000
DTSTAMP:20260423T052012
CREATED:20240104T233253Z
LAST-MODIFIED:20240104T233717Z
UID:3739-1672531200-1830326400@revitalizehealthandwellness.com
SUMMARY:Classic Aircraft Aviation Museum
DESCRIPTION:
URL:https://revitalizehealthandwellness.com/event/classic-aircraft-aviation-museum-2/
CATEGORIES:recurring
END:VEVENT
BEGIN:VEVENT
DTSTART;TZID=America/Los_Angeles:20230101T000000
DTEND;TZID=America/Los_Angeles:20280101T080000
DTSTAMP:20260423T052012
CREATED:20240104T233254Z
LAST-MODIFIED:20240104T233717Z
UID:3740-1672531200-1830326400@revitalizehealthandwellness.com
SUMMARY:SOLVE Volunteer calendar
DESCRIPTION:
URL:https://revitalizehealthandwellness.com/event/solve-volunteer-calendar-2/
CATEGORIES:recurring
END:VEVENT
BEGIN:VEVENT
DTSTART;TZID=America/Los_Angeles:20230101T000000
DTEND;TZID=America/Los_Angeles:20280101T080000
DTSTAMP:20260423T052012
CREATED:20240104T233308Z
LAST-MODIFIED:20240104T233717Z
UID:3741-1672531200-1830326400@revitalizehealthandwellness.com
SUMMARY:Powell Butte Nature Park
DESCRIPTION:
URL:https://revitalizehealthandwellness.com/event/powell-butte-nature-park-2/
CATEGORIES:recurring
END:VEVENT
BEGIN:VEVENT
DTSTART;TZID=America/Los_Angeles:20230101T000000
DTEND;TZID=America/Los_Angeles:20280101T080000
DTSTAMP:20260423T052012
CREATED:20240104T233308Z
LAST-MODIFIED:20240104T233717Z
UID:3742-1672531200-1830326400@revitalizehealthandwellness.com
SUMMARY:World Forestry Centeer
DESCRIPTION:
URL:https://revitalizehealthandwellness.com/event/world-forestry-centeer-2/
CATEGORIES:recurring
END:VEVENT
BEGIN:VEVENT
DTSTART;TZID=America/Los_Angeles:20230101T000000
DTEND;TZID=America/Los_Angeles:20280101T080000
DTSTAMP:20260423T052012
CREATED:20240104T233309Z
LAST-MODIFIED:20240104T233717Z
UID:3743-1672531200-1830326400@revitalizehealthandwellness.com
SUMMARY:Beginning Tai Chi
DESCRIPTION:
URL:https://revitalizehealthandwellness.com/event/beginning-tai-chi-3/
CATEGORIES:recurring
END:VEVENT
BEGIN:VEVENT
DTSTART;TZID=America/Los_Angeles:20230101T000000
DTEND;TZID=America/Los_Angeles:20280101T080000
DTSTAMP:20260423T052012
CREATED:20240104T233309Z
LAST-MODIFIED:20240104T233717Z
UID:3744-1672531200-1830326400@revitalizehealthandwellness.com
SUMMARY:End of The Oregon Trail Interpretive Center
DESCRIPTION:
URL:https://revitalizehealthandwellness.com/event/end-of-the-oregon-trail-interpretive-center-2/
CATEGORIES:recurring
END:VEVENT
BEGIN:VEVENT
DTSTART;TZID=America/Los_Angeles:20230101T000000
DTEND;TZID=America/Los_Angeles:20280101T080000
DTSTAMP:20260423T052012
CREATED:20240104T233309Z
LAST-MODIFIED:20240104T233717Z
UID:3745-1672531200-1830326400@revitalizehealthandwellness.com
SUMMARY:Gresham Japanese Garden
DESCRIPTION:
URL:https://revitalizehealthandwellness.com/event/gresham-japanese-garden-2/
CATEGORIES:recurring
END:VEVENT
BEGIN:VEVENT
DTSTART;TZID=America/Los_Angeles:20230101T000000
DTEND;TZID=America/Los_Angeles:20280101T080000
DTSTAMP:20260423T052012
CREATED:20240104T233323Z
LAST-MODIFIED:20240104T233717Z
UID:3747-1672531200-1830326400@revitalizehealthandwellness.com
SUMMARY:Rogerson Clematis Garden
DESCRIPTION:
URL:https://revitalizehealthandwellness.com/event/rogerson-clematis-garden-2/
CATEGORIES:recurring
END:VEVENT
BEGIN:VEVENT
DTSTART;TZID=America/Los_Angeles:20230101T000000
DTEND;TZID=America/Los_Angeles:20280101T080000
DTSTAMP:20260423T052012
CREATED:20240104T233323Z
LAST-MODIFIED:20240104T233717Z
UID:3748-1672531200-1830326400@revitalizehealthandwellness.com
SUMMARY:Tualatin River National Wildlife Refuge
DESCRIPTION:
URL:https://revitalizehealthandwellness.com/event/tualatin-river-national-wildlife-refuge-2/
CATEGORIES:recurring
END:VEVENT
BEGIN:VEVENT
DTSTART;TZID=America/Los_Angeles:20230101T000000
DTEND;TZID=America/Los_Angeles:20280101T080000
DTSTAMP:20260423T052012
CREATED:20240104T233323Z
LAST-MODIFIED:20240104T233717Z
UID:3746-1672531200-1830326400@revitalizehealthandwellness.com
SUMMARY:Tryon Creek Sate Natural Area
DESCRIPTION:
URL:https://revitalizehealthandwellness.com/event/tryon-creek-sate-natural-area-2/
CATEGORIES:recurring
END:VEVENT
BEGIN:VEVENT
DTSTART;TZID=America/Los_Angeles:20230101T000000
DTEND;TZID=America/Los_Angeles:20280101T080000
DTSTAMP:20260423T052012
CREATED:20240104T233324Z
LAST-MODIFIED:20240104T233718Z
UID:3749-1672531200-1830326400@revitalizehealthandwellness.com
SUMMARY:Silver Falls State Park
DESCRIPTION:
URL:https://revitalizehealthandwellness.com/event/silver-falls-state-park-2/
CATEGORIES:recurring
END:VEVENT
BEGIN:VEVENT
DTSTART;TZID=America/Los_Angeles:20230101T000000
DTEND;TZID=America/Los_Angeles:20280101T080000
DTSTAMP:20260423T052012
CREATED:20240104T233324Z
LAST-MODIFIED:20240104T233718Z
UID:3750-1672531200-1830326400@revitalizehealthandwellness.com
SUMMARY:Rice Museum of Rocks & Minerals
DESCRIPTION:
URL:https://revitalizehealthandwellness.com/event/rice-museum-of-rocks-minerals-2/
CATEGORIES:recurring
END:VEVENT
BEGIN:VEVENT
DTSTART;TZID=America/Los_Angeles:20230101T000000
DTEND;TZID=America/Los_Angeles:20280101T080000
DTSTAMP:20260423T052012
CREATED:20240104T233338Z
LAST-MODIFIED:20240104T233718Z
UID:3752-1672531200-1830326400@revitalizehealthandwellness.com
SUMMARY:Edgefield Concerts on the Lawn
DESCRIPTION:
URL:https://revitalizehealthandwellness.com/event/edgefield-concerts-on-the-lawn-2/
CATEGORIES:recurring
END:VEVENT
BEGIN:VEVENT
DTSTART;TZID=America/Los_Angeles:20230101T000000
DTEND;TZID=America/Los_Angeles:20280101T080000
DTSTAMP:20260423T052012
CREATED:20240104T233338Z
LAST-MODIFIED:20240104T233718Z
UID:3751-1672531200-1830326400@revitalizehealthandwellness.com
SUMMARY:Our Table Co-op
DESCRIPTION:
URL:https://revitalizehealthandwellness.com/event/our-table-co-op-2/
CATEGORIES:recurring
END:VEVENT
BEGIN:VEVENT
DTSTART;TZID=America/Los_Angeles:20230101T000000
DTEND;TZID=America/Los_Angeles:20280101T080000
DTSTAMP:20260423T052012
CREATED:20240104T233339Z
LAST-MODIFIED:20240104T233739Z
UID:3753-1672531200-1830326400@revitalizehealthandwellness.com
SUMMARY:Mazama Trail Trips Hiking Club
DESCRIPTION:
URL:https://revitalizehealthandwellness.com/event/mazama-trail-trips-hiking-club-2/
CATEGORIES:recurring
END:VEVENT
BEGIN:VEVENT
DTSTART;TZID=America/Los_Angeles:20230101T000000
DTEND;TZID=America/Los_Angeles:20280101T080000
DTSTAMP:20260423T052012
CREATED:20240104T233339Z
LAST-MODIFIED:20240104T233739Z
UID:3754-1672531200-1830326400@revitalizehealthandwellness.com
SUMMARY:Wilsonville Book Club\, Pairing Food and Liturature
DESCRIPTION:
URL:https://revitalizehealthandwellness.com/event/wilsonville-book-club-pairing-food-and-liturature-2/
CATEGORIES:recurring
END:VEVENT
BEGIN:VEVENT
DTSTART;TZID=America/Los_Angeles:20230101T000000
DTEND;TZID=America/Los_Angeles:20280101T080000
DTSTAMP:20260423T052012
CREATED:20240104T233339Z
LAST-MODIFIED:20240104T233739Z
UID:3755-1672531200-1830326400@revitalizehealthandwellness.com
SUMMARY:Zoom Book Club
DESCRIPTION:
URL:https://revitalizehealthandwellness.com/event/zoom-book-club-2/
CATEGORIES:recurring
END:VEVENT
BEGIN:VEVENT
DTSTART;TZID=America/Los_Angeles:20230101T000000
DTEND;TZID=America/Los_Angeles:20280101T080000
DTSTAMP:20260423T052012
CREATED:20240104T233353Z
LAST-MODIFIED:20240104T233739Z
UID:3757-1672531200-1830326400@revitalizehealthandwellness.com
SUMMARY:Wilsonville Rotary Summer Concerts in the Park
DESCRIPTION:
URL:https://revitalizehealthandwellness.com/event/wilsonville-rotary-summer-concerts-in-the-park-2/
CATEGORIES:recurring
END:VEVENT
BEGIN:VEVENT
DTSTART;TZID=America/Los_Angeles:20230101T000000
DTEND;TZID=America/Los_Angeles:20280101T080000
DTSTAMP:20260423T052012
CREATED:20240104T233353Z
LAST-MODIFIED:20240104T233739Z
UID:3758-1672531200-1830326400@revitalizehealthandwellness.com
SUMMARY:Wilsonville Summer Movies in the park
DESCRIPTION:
URL:https://revitalizehealthandwellness.com/event/wilsonville-summer-movies-in-the-park-2/
CATEGORIES:recurring
END:VEVENT
BEGIN:VEVENT
DTSTART;TZID=America/Los_Angeles:20230101T000000
DTEND;TZID=America/Los_Angeles:20280101T080000
DTSTAMP:20260423T052012
CREATED:20240104T233353Z
LAST-MODIFIED:20240104T233739Z
UID:3756-1672531200-1830326400@revitalizehealthandwellness.com
SUMMARY:Yoga in the Park: Summer Series (Lake Oswego\, Sellwood\, North Portland)
DESCRIPTION:
URL:https://revitalizehealthandwellness.com/event/yoga-in-the-park-summer-series-lake-oswego-sellwood-north-portland-2/
CATEGORIES:recurring
END:VEVENT
BEGIN:VEVENT
DTSTART;TZID=America/Los_Angeles:20230101T000000
DTEND;TZID=America/Los_Angeles:20280101T080000
DTSTAMP:20260423T052012
CREATED:20240104T233354Z
LAST-MODIFIED:20240104T233740Z
UID:3759-1672531200-1830326400@revitalizehealthandwellness.com
SUMMARY:Frog Pond Farm family fun + seasonal events
DESCRIPTION:
URL:https://revitalizehealthandwellness.com/event/frog-pond-farm-family-fun-seasonal-events-2/
CATEGORIES:recurring
END:VEVENT
BEGIN:VEVENT
DTSTART;TZID=America/Los_Angeles:20230101T000000
DTEND;TZID=America/Los_Angeles:20280101T080000
DTSTAMP:20260423T052012
CREATED:20240104T233354Z
LAST-MODIFIED:20240104T233740Z
UID:3760-1672531200-1830326400@revitalizehealthandwellness.com
SUMMARY:Portland Ghosts - tours
DESCRIPTION:
URL:https://revitalizehealthandwellness.com/event/portland-ghosts-tours-2/
CATEGORIES:recurring
END:VEVENT
BEGIN:VEVENT
DTSTART;TZID=America/Los_Angeles:20230218T000000
DTEND;TZID=America/Los_Angeles:20280101T080000
DTSTAMP:20260423T052012
CREATED:20240104T233253Z
LAST-MODIFIED:20240104T233740Z
UID:3737-1676678400-1830326400@revitalizehealthandwellness.com
SUMMARY:The Service of Japanese American Soldiers During WW II
DESCRIPTION:
URL:https://revitalizehealthandwellness.com/event/the-service-of-japanese-american-soldiers-during-ww-ii-2/
CATEGORIES:recurring
END:VEVENT
BEGIN:VEVENT
DTSTART;TZID=America/Los_Angeles:20230325T000000
DTEND;TZID=America/Los_Angeles:20280101T080000
DTSTAMP:20260423T052012
CREATED:20240104T233253Z
LAST-MODIFIED:20240104T233740Z
UID:3738-1679702400-1830326400@revitalizehealthandwellness.com
SUMMARY:Nature Vive: Paul Missal art exhibition
DESCRIPTION:
URL:https://revitalizehealthandwellness.com/event/nature-vive-paul-missal-art-exhibition-2/
CATEGORIES:recurring
END:VEVENT
END:VCALENDAR